Workbook

Sheet สรุปรายงานรับ-จ่าย 
A1: จังหวัด..............................
A2: รายงานการรับ - จ่ายเงินและเงินคงเหลือ เงินรายได้นิคมสหกรณ์
A3: สำหรับปีสิ้นสุดวันที่ 30 กันยายน 2566
F4: (หน่วย : บาท)
F5: 2566
A6: รายรับ :
B7: เงินรับโอนจากส่วนกลาง (เงินให้กู้ยืม) | F7: =ทะเบียนคุมเงินฝากธนาคาร!D36 -> 0
B8: เงินรับโอนจากส่วนกลาง (เงินจ่ายขาด) | F8: =ทะเบียนคุมเงินฝากธนาคาร!E36 -> 0
B9: รายได้ดอกเบี้ยเงินฝากธนาคาร | F9: =ทะเบียนคุมเงินฝากธนาคาร!F36 -> 0
B10: เงินระหว่างดำเนินการ | F10: =ทะเบียนคุมเงินฝากธนาคาร!G36 -> 0
B11: เงินยืมทดรองราชการส่งคืน | F11: =ทะเบียนคุมเงินฝากธนาคาร!H36 -> 0
B12: รายได้อื่น | F12: =ทะเบียนคุมเงินฝากธนาคาร!I36 -> 0
A13: รวมรายรับ | F13: =SUM(F7:F12) -> 0
A15: รายจ่าย :
B16: จ่ายเงินกู้ให้สถาบันเกษตรกร | F16: =ทะเบียนคุมเงินฝากธนาคาร!K36 -> 0
B17: เงินโอนให้ส่วนกลาง | F17: =ทะเบียนคุมเงินฝากธนาคาร!L36 -> 0
B18: ค่าใช้จ่ายในการประชุม | F18: =ทะเบียนคุมเงินฝากธนาคาร!M36 -> 0
B19: ค่าใช้จ่ายในนิคมฯ ตามโครงการที่ได้รับอนุมัติ | F19: =ทะเบียนคุมเงินฝากธนาคาร!N36 -> 0
B20: ค่าใช้จ่ายในการติดตามเร่งรัดหนี้ | F20: =ทะเบียนคุมเงินฝากธนาคาร!O36 -> 0
B21: เงินยืมทดรองราชการ | F21: =ทะเบียนคุมเงินฝากธนาคาร!P36 -> 0
B22: เงินระหว่างดำเนินการ | F22: =ทะเบียนคุมเงินฝากธนาคาร!Q36 -> 0
B23: รายจ่ายอื่น | F23: =ทะเบียนคุมเงินฝากธนาคาร!R36 -> 0
A24: รวมรายจ่าย | F24: =SUM(F16:F23) -> 0
A25: รายรับสูง (ต่ำ) กว่ารายจ่ายสุทธิ | F25: =ROUND((F13-F24),2) -> 0
A26: บวก เงินคงเหลือสะสมยกมา | F26: 0
A27: เงินคงเหลือทั้งสิ้น | F27: =ROUND((F25+F26),2) -> 0
A28: หัก ภาระผูกพัน | F28: 0
A29: เงินคงเหลือหลังหักภาระผูกพัน | F29: =ROUND((F27-F28),2) -> 0
A31: เงินคงเหลือทั้งสิ้น ประกอบด้วย
B32: เงินฝากธนาคาร
B33: ประเภทออมทรัพย์ | F33: =F29 -> 0
B34: รวมเงินฝากธนาคาร | F34: =SUM(F33:F33) -> 0
A35: รวมเงินคงเหลือทั้งสิ้น | F35: =F34 -> 0 | H35: =F29-F35 -> 0
B39: หมายเหตุ :
B40: 1. รายการรับ - จ่ายเงิน สำหรับปีงบประมาณ พ.ศ. 2566 เป็นรายการที่เกิดขึ้นระหว่างเดือนมิถุนายน - กันยายน 2566

Sheet ทะเบียนคุมเงินฝากธนาคาร
A1: สำนักงานสหกรณ์จังหวัด.............................................
A2: รายละเอียดการรับ - จ่ายและเงินคงเหลือ เงินรายได้นิคมสหกรณ์
A3: สำหรับปีสิ้นสุดวันที่ 30 กันยายน 2566
A4: สมุดบัญชีเลขที่
A5: วัน/เดือน/ปี | B5: รายการ | C5: เลขที่เอกสาร/อ้างอิง | D5: รายการรับ | K5: รายการจ่าย | T5: ยอดเงินคงเหลือ | U5: ยอดเงินจ่ายขาดสะสม | V5: หมายเหตุ
D6: รับเงินโอนจากส่วนกลาง (เงินกู้) | E6: รับเงินโอนจากส่วนกลาง (เงินจ่ายขาด) | F6: ดบ.เงินฝากธนาคาร | G6: เงินระหว่างดำเนินการ | H6: เงินยืมทดรองราชการส่งคืน | I6: รายได้อื่น | J6: รวม | K6: จ่ายเงินกู้ | L6: เงินโอนให้ส่วนกลาง | M6: ค่าใช้จ่ายในการประชุมฯ | N6: ค่าใช้จ่ายในนิคมฯ ตามโครงการที่ได้รับอนุมัติ | O6: ค่าใช้จ่ายในการดำเนินงาน | P6: เงินยืมทดรองราชการ | Q6: เงินระหว่างดำเนินการ | R6: รายจ่ายอื่น | S6: รวม
A7: 44835 | B7: ยอดยกมา | D7: 0 | E7: 0 | F7: 0 | G7: 0 | H7: 0 | I7: 0 | J7: =SUM(D7:I7) -> 0 | K7: 0 | L7: 0 | M7: 0 | N7: 0 | O7: 0 | P7: 0 | Q7: 0 | R7: 0 | S7: =SUM(K7:R7) -> 0 | T7: 0 | U7: 0
D8: 0 | E8: 0 | F8: 0 | G8: 0 | H8: 0 | I8: 0 | J8: =SUM(D8:I8) -> 0 | K8: 0 | L8: 0 | M8: 0 | N8: 0 | O8: 0 | P8: 0 | Q8: 0 | R8: 0 | S8: =SUM(K8:R8) -> 0 | T8: =ROUND((T7+J8-S8),2) -> 0 | U8: =ROUND((U7+M8+N8+O8+P8-H8),2) -> 0
D9: 0 | E9: 0 | F9: 0 | G9: 0 | H9: 0 | I9: 0 | J9: =SUM(D9:I9) -> 0 | K9: 0 | L9: 0 | M9: 0 | N9: 0 | O9: 0 | P9: 0 | Q9: 0 | R9: 0 | S9: =SUM(K9:R9) -> 0 | T9: =ROUND((T8+J9-S9),2) -> 0 | U9: =ROUND((U8+M9+N9+O9+P9-H9),2) -> 0
D10: 0 | E10: 0 | F10: 0 | G10: 0 | H10: 0 | I10: 0 | J10: =SUM(D10:I10) -> 0 | K10: 0 | L10: 0 | M10: 0 | N10: 0 | O10: 0 | P10: 0 | Q10: 0 | R10: 0 | S10: =SUM(K10:R10) -> 0 | T10: =ROUND((T9+J10-S10),2) -> 0 | U10: =ROUND((U9+M10+N10+O10+P10-H10),2) -> 0
D11: 0 | E11: 0 | F11: 0 | G11: 0 | H11: 0 | I11: 0 | J11: =SUM(D11:I11) -> 0 | K11: 0 | L11: 0 | M11: 0 | N11: 0 | O11: 0 | P11: 0 | Q11: 0 | R11: 0 | S11: =SUM(K11:R11) -> 0 | T11: =ROUND((T10+J11-S11),2) -> 0 | U11: =ROUND((U10+M11+N11+O11+P11-H11),2) -> 0
D12: 0 | E12: 0 | F12: 0 | G12: 0 | H12: 0 | I12: 0 | J12: =SUM(D12:I12) -> 0 | K12: 0 | L12: 0 | M12: 0 | N12: 0 | O12: 0 | P12: 0 | Q12: 0 | R12: 0 | S12: =SUM(K12:R12) -> 0 | T12: =ROUND((T11+J12-S12),2) -> 0 | U12: =ROUND((U11+M12+N12+O12+P12-H12),2) -> 0
D13: 0 | E13: 0 | F13: 0 | G13: 0 | H13: 0 | I13: 0 | J13: =SUM(D13:I13) -> 0 | K13: 0 | L13: 0 | M13: 0 | N13: 0 | O13: 0 | P13: 0 | Q13: 0 | R13: 0 | S13: =SUM(K13:R13) -> 0 | T13: =ROUND((T12+J13-S13),2) -> 0 | U13: =ROUND((U12+M13+N13+O13+P13-H13),2) -> 0
D14: 0 | E14: 0 | F14: 0 | G14: 0 | H14: 0 | I14: 0 | J14: =SUM(D14:I14) -> 0 | K14: 0 | L14: 0 | M14: 0 | N14: 0 | O14: 0 | P14: 0 | Q14: 0 | R14: 0 | S14: =SUM(K14:R14) -> 0 | T14: =ROUND((T13+J14-S14),2) -> 0 | U14: =ROUND((U13+M14+N14+O14+P14-H14),2) -> 0
D15: 0 | E15: 0 | F15: 0 | G15: 0 | H15: 0 | I15: 0 | J15: =SUM(D15:I15) -> 0 | K15: 0 | L15: 0 | M15: 0 | N15: 0 | O15: 0 | P15: 0 | Q15: 0 | R15: 0 | S15: =SUM(K15:R15) -> 0 | T15: =ROUND((T14+J15-S15),2) -> 0 | U15: =ROUND((U14+M15+N15+O15+P15-H15),2) -> 0
D16: 0 | E16: 0 | F16: 0 | G16: 0 | H16: 0 | I16: 0 | J16: =SUM(D16:I16) -> 0 | K16: 0 | L16: 0 | M16: 0 | N16: 0 | O16: 0 | P16: 0 | Q16: 0 | R16: 0 | S16: =SUM(K16:R16) -> 0 | T16: =ROUND((T15+J16-S16),2) -> 0 | U16: =ROUND((U15+M16+N16+O16+P16-H16),2) -> 0
D17: 0 | E17: 0 | F17: 0 | G17: 0 | H17: 0 | I17: 0 | J17: =SUM(D17:I17) -> 0 | K17: 0 | L17: 0 | M17: 0 | N17: 0 | O17: 0 | P17: 0 | Q17: 0 | R17: 0 | S17: =SUM(K17:R17) -> 0 | T17: =ROUND((T16+J17-S17),2) -> 0 | U17: =ROUND((U16+M17+N17+O17+P17-H17),2) -> 0
D18: 0 | E18: 0 | F18: 0 | G18: 0 | H18: 0 | I18: 0 | J18: =SUM(D18:I18) -> 0 | K18: 0 | L18: 0 | M18: 0 | N18: 0 | O18: 0 | P18: 0 | Q18: 0 | R18: 0 | S18: =SUM(K18:R18) -> 0 | T18: =ROUND((T17+J18-S18),2) -> 0 | U18: =ROUND((U17+M18+N18+O18+P18-H18),2) -> 0
D19: 0 | E19: 0 | F19: 0 | G19: 0 | H19: 0 | I19: 0 | J19: =SUM(D19:I19) -> 0 | K19: 0 | L19: 0 | M19: 0 | N19: 0 | O19: 0 | P19: 0 | Q19: 0 | R19: 0 | S19: =SUM(K19:R19) -> 0 | T19: =ROUND((T18+J19-S19),2) -> 0 | U19: =ROUND((U18+M19+N19+O19+P19-H19),2) -> 0
... D35: 0 | E35: 0 | F35: 0 | G35: 0 | H35: 0 | I35: 0 | J35: =SUM(D35:I35) -> 0 | K35: 0 | L35: 0 | M35: 0 | N35: 0 | O35: 0 | P35: 0 | Q35: 0 | R35: 0 | S35: =SUM(K35:R35) -> 0 | T35: =ROUND((T34+J35-S35),2) -> 0 | U35: =ROUND((U34+M35+N35+O35+P35-H35),2) -> 0
A36: รวม | D36: =SUM(D7:D35) -> 0 | E36: =SUM(E7:E35) -> 0 | F36: =SUM(F7:F35) -> 0 | G36: =SUM(G7:G35) -> 0 | H36: =SUM(H7:H35) -> 0 | I36: =SUM(I7:I35) -> 0 | J36: =SUM(J7:J35) -> 0 | K36: =SUM(K7:K35) -> 0 | ... S36: =SUM(S7:S35) -> 0 | T36: =T35 -> 0 | U36: =U35 -> 0
B39: หมายเหตุ :
B40: 1. รายการรับ - จ่ายเงิน สำหรับปีงบประมาณ พ.ศ. 2566 เป็นรายการที่เกิดขึ้นระหว่างเดือนมิถุนายน - กันยายน 2566
A42: ช่องที่ 1 | B42: วัน/เดือน/ปี | C42: 1. ให้บันทึกวันที่เกิดรายการรับ - จ่ายเงิน ตามสมุดบัญชีเงินฝากธนาคาร (ไฟล์ข้อมูลตั้งค่าเป็นการคีย์วันเดือนปีเป็นแบบปีคริสต์ศักราช
C43: 2. ในบรรทัดแรกให้บันทึกวันที่เริ่มต้นปีงบประมาณ คือ วันที่ 1 ตุลาคม ของทุกปี
A44: ช่องที่ 2 | B44: รายการ | C44: 1. ให้บันทึกคำอธิบายรายการรับ - จ่ายเงิน เช่น รับดอกเบี้ยเงินฝากธนาคาร เป็นต้น

Sheet ทะเบียนคุมคำขอ-สัญญา
D1: สำนักงานสหกรณ์จังหวัด ..............................................
F2: เงินรายได้นิคมสหกรณ์
F3: ทะเบียนคุมคำขอกู้ / สัญญา
F4: ประจำปีงบประมาณ พ.ศ._____________
A6: ลำดับที่ | B6: วัน เดือน ปี | C6: เลขที่ | D6: เลขที่สัญญา | E6: สัญญา | F6: สหกรณ์ / กลุ่มเกษตรกร | G6: จำนวนเงินกู้ | H6: กำหนดชำระคืน | I6: อัตรา | J6: อัตรา | K6: วันครบกำหนด | L6: หมายเหตุ | M6: ผู้บันทึกข้อมูล
B7: ที่ขอกู้ | C7: คำขอกู้ | E7: ลงวันที่ | H7: (ปี) | I7: ดอกเบี้ย | J7: ค่าปรับ

Sheet สรุปทะเบียนคุมลูกหนี้
B1: สำนักงานสหกรณ์จังหวัด.........................................
B2: เงินรายได้นิคมสหกรณ์
B3: สรุปทะเบียนคุมเงินให้กู้ยืม
B4: ณ วันที่ 30 กันยายน 2566
A6: ลำดับที่ | B6: สถาบันเกษตรกร | C6: สัญญาเลขที่ | D6: สัญญาลงวันที่ | E6: วันที่รับเงินกู้ | F6: วันที่ครบกำหนดชำระ | G6: ต้นเงิน | K6: ดอกเบี้ยเงินกู้/ดอกเบี้ยตามคำพิพากษา | O6: ค่าปรับรับ/ค่าปรับตามคำพิพากษา | S6: ยอดหนี้รวม | T6: หมายเหตุ
G7: ยอดยกมา | H7: เพิ่ม | I7: รับชำระ | J7: คงเหลือ | K7: ยอดยกมา | L7: เพิ่ม | M7: รับชำระ | N7: คงเหลือ | O7: ยอดยกมา | P7: เพิ่ม | Q7: รับชำระ | R7: คงเหลือ
A8: 1 | G8: 0 | H8: 0 | I8: 0 | J8: =G8+H8-I8 -> 0 | K8: 0 | L8: 0 | M8: 0 | N8: =K8+L8-M8 -> 0 | O8: 0 | P8: 0 | Q8: 0 | R8: =O8+P8-Q8 -> 0 | S8: =J8+N8+R8 -> 0
A9: 2 | G9: 0 | H9: 0 | I9: 0 | J9: =G9+H9-I9 -> 0 | K9: 0 | L9: 0 | M9: 0 | N9: =K9+L9-M9 -> 0 | O9: 0 | P9: 0 | Q9: 0 | R9: =O9+P9-Q9 -> 0 | S9: =J9+N9+R9 -> 0
A10: 3 | G10: 0 | H10: 0 | I10: 0 | J10: =G10+H10-I10 -> 0 | K10: 0 | L10: 0 | M10: 0 | N10: =K10+L10-M10 -> 0 | O10: 0 | P10: 0 | Q10: 0 | R10: =O10+P10-Q10 -> 0 | S10: =J10+N10+R10 -> 0
A11: 4 | G11: 0 | H11: 0 | I11: 0 | J11: =G11+H11-I11 -> 0 | K11: 0 | L11: 0 | M11: 0 | N11: =K11+L11-M11 -> 0 | O11: 0 | P11: 0 | Q11: 0 | R11: =O11+P11-Q11 -> 0 | S11: =J11+N11+R11 -> 0
A12: 5 | G12: 0 | H12: 0 | I12: 0 | J12: =G12+H12-I12 -> 0 | K12: 0 | L12: 0 | M12: 0 | N12: =K12+L12-M12 -> 0 | O12: 0 | P12: 0 | Q12: 0 | R12: =O12+P12-Q12 -> 0 | S12: =J12+N12+R12 -> 0
A13: 6 | G13: 0 | H13: 0 | I13: 0 | J13: =G13+H13-I13 -> 0 | K13: 0 | L13: 0 | M13: 0 | N13: =K13+L13-M13 -> 0 | O13: 0 | P13: 0 | Q13: 0 | R13: =O13+P13-Q13 -> 0 | S13: =J13+N13+R13 -> 0
A14: 7 | G14: 0 | H14: 0 | I14: 0 | J14: =G14+H14-I14 -> 0 | K14: 0 | L14: 0 | M14: 0 | N14: =K14+L14-M14 -> 0 | O14: 0 | P14: 0 | Q14: 0 | R14: =O14+P14-Q14 -> 0 | S14: =J14+N14+R14 -> 0
A15: 8 | G15: 0 | H15: 0 | I15: 0 | J15: =G15+H15-I15 -> 0 | K15: 0 | L15: 0 | M15: 0 | N15: =K15+L15-M15 -> 0 | O15: 0 | P15: 0 | Q15: 0 | R15: =O15+P15-Q15 -> 0 | S15: =J15+N15+R15 -> 0
A16: 9 | G16: 0 | H16: 0 | I16: 0 | J16: =G16+H16-I16 -> 0 | K16: 0 | L16: 0 | M16: 0 | N16: =K16+L16-M16 -> 0 | O16: 0 | P16: 0 | Q16: 0 | R16: =O16+P16-Q16 -> 0 | S16: =J16+N16+R16 -> 0
A17: 10 | G17: 0 | H17: 0 | I17: 0 | J17: =G17+H17-I17 -> 0 | K17: 0 | L17: 0 | M17: 0 | N17: =K17+L17-M17 -> 0 | O17: 0 | P17: 0 | Q17: 0 | R17: =O17+P17-Q17 -> 0 | S17: =J17+N17+R17 -> 0
A18: รวม | G18: =SUM(G8:G17) -> 0 | H18: =SUM(H8:H17) -> 0 | I18: =SUM(I8:I17) -> 0 | J18: =SUM(J8:J17) -> 0 | K18: =SUM(K8:K17) -> 0 | L18: =SUM(L8:L17) -> 0 | M18: =SUM(M8:M17) -> 0 | N18: =SUM(N8:N17) -> 0 | ... S18: =SUM(S8:S17) -> 0

Sheet ฟอร์มลูกหนี้รายตัว
A1: กรมส่งเสริมสหกรณ์
A2: เงินรายได้นิคมสหกรณ์
A3: รายละเอียดลูกหนี้รายตัว
A5: สถาบันเกษตรกร | B5: รายละเอียดสัญญา | C5: ว/ด/ป | F5: ยอดโอนเงิน | G5: check | H5: ต้นเงิน | L5: ดอกเบี้ยเงินกู้ | O5: 0 | P5: ค่าปรับรับ | S5: 0 | T5: ยอดหนี้รวม | U5: หมายเหตุ
H6: ยอดยกมา | I6: เพิ่ม | J6: รับชำระ | K6: คงเหลือ | L6: ยอดยกมา | M6: เพิ่ม | N6: รับชำระ | O6: คงเหลือ | P6: ยอดยกมา | Q6: เพิ่ม | R6: รับชำระ | S6: คงเหลือ
B7: สัญญาเลขที่
B8: ลงวันที่ | E8: =D8-C8 -> 0 | F8: 0 | G8: =ROUND(F8-J8-N8-R8,2) -> 0 | H8: 0 | I8: 0 | J8: =IF(F8=0,0,(IF(F8<(F8-N8-R8),0,IF(F8=(F8-N8-R8),(F8-N8-R8),IF(F8>(F8-N8-R8),(F8-N8-R8),"F"))))) -> 0 | K8: =ROUND((H8+I8-J8),2) -> 0 | L8: 0 | M8: =ROUND(((I8*$O$5)*(E8/365)),2) -> 0 | N8: =IF(F8=0,0,IF(AND(F8<(L8+M8+P8+Q8),0>(F8-P8-Q8)),0,IF(AND(F8<(L8+M8+P8+Q8),0<(F8-P8-Q8)),F8-P8-Q8,IF(F8=P8+Q8,0,IF(F8>(L8+M8+P8+Q8),(L8+M8),"F"))))) -> 0 | O8: =ROUND((L8+M8-N8),2) -> 0 | P8: 0 | Q8: =ROUND((I8*S5)*(E8/365),2) -> 0 | R8: =IF(F8=0,0,IF(F8<(P8+Q8),F8,IF(F8=(P8+Q8),(P8+Q8),IF(F8>(P8+Q8),(P8+Q8),"F")))) -> 0 | S8: =ROUND((P8+Q8-R8),2) -> 0 | T8: =K8+O8+S8 -> 0
B9: ครบกำหนดชำระ | C9: =D8+1 -> 1 | E9: =IF(D9-C9+1<0,"0",D9-C9+1) -> 0 | F9: 0 | G9: =ROUND(F9-J9-N9-R9,2) -> 0 | H9: =K8 -> 0 | I9: 0 | J9: =IF(F9=0,0,(IF(F9<(F9-N9-R9),0,IF(F9=(F9-N9-R9),(F9-N9-R9),IF(F9>(F9-N9-R9),(F9-N9-R9),"F"))))) -> 0 | K9: =ROUND((H9+I9-J9),2) -> 0 | L9: =O8 -> 0 | M9: =ROUND(((H9*$O$5)*(E9/365)),2) -> 0 | N9: =IF(F9=0,0,IF(AND(F9<(L9+M9+P9+Q9),0>(F9-P9-Q9)),0,IF(AND(F9<(L9+M9+P9+Q9),0<(F9-P9-Q9)),F9-P9-Q9,IF(F9=P9+Q9,0,IF(F9>(L9+M9+P9+Q9),(L9+M9),"F"))))) -> 0 | O9: =ROUND((L9+M9-N9),2) -> 0 | P9: =S8 -> 0 | Q9: =ROUND((H9*$S$5)*(E9/365),2) -> 0 | R9: =IF(F9=0,0,IF(F9<(P9+Q9),F9,IF(F9=(P9+Q9),(P9+Q9),IF(F9>(P9+Q9),(P9+Q9),"F")))) -> 0 | S9: =ROUND((P9+Q9-R9),2) -> 0 | T9: =K9+O9+S9 -> 0
C10: =D9+1 -> 1 | E10: =IF(D10-C10+1<0,"0",D10-C10+1) -> 0 | F10: 0 | G10: =ROUND(F10-J10-N10-R10,2) -> 0 | H10: =K9 -> 0 | I10: 0 | J10: =IF(F10=0,0,(IF(F10<(F10-N10-R10),0,IF(F10=(F10-N10-R10),(F10-N10-R10),IF(F10>(F10-N10-R10),(F10-N10-R10),"F"))))) -> 0 | K10: =ROUND((H10+I10-J10),2) -> 0 | L10: =O9 -> 0 | M10: =ROUND(((H10*$O$5)*(E10/365)),2) -> 0 | N10: =IF(F10=0,0,IF(AND(F10<(L10+M10+P10+Q10),0>(F10-P10-Q10)),0,IF(AND(F10<(L10+M10+P10+Q10),0<(F10-P10-Q10)),F10-P10-Q10,IF(F10=P10+Q10,0,IF(F10>(L10+M10+P10+Q10),(L10+M10),"F"))))) -> 0 | O10: =ROUND((L10+M10-N10),2) -> 0 | P10: =S9 -> 0 | Q10: =ROUND((H10*$S$5)*(E10/365),2) -> 0 | R10: =IF(F10=0,0,IF(F10<(P10+Q10),F10,IF(F10=(P10+Q10),(P10+Q10),IF(F10>(P10+Q10),(P10+Q10),"F")))) -> 0 | S10: =ROUND((P10+Q10-R10),2) -> 0 | T10: =K10+O10+S10 -> 0
B11: วันที่รับเงินกู้ | C11: =D10+1 -> 1 | E11: =IF(D11-C11+1<0,"0",D11-C11+1) -> 0 | F11: 0 | G11: =ROUND(F11-J11-N11-R11,2) -> 0 | H11: =K10 -> 0 | I11: 0 | J11: =IF(F11=0,0,(IF(F11<(F11-N11-R11),0,IF(F11=(F11-N11-R11),(F11-N11-R11),IF(F11>(F11-N11-R11),(F11-N11-R11),"F"))))) -> 0 | K11: =ROUND((H11+I11-J11),2) -> 0 | L11: =O10 -> 0 | M11: =ROUND(((H11*$O$5)*(E11/365)),2) -> 0 | N11: =IF(F11=0,0,IF(AND(F11<(L11+M11+P11+Q11),0>(F11-P11-Q11)),0,IF(AND(F11<(L11+M11+P11+Q11),0<(F11-P11-Q11)),F11-P11-Q11,IF(F11=P11+Q11,0,IF(F11>(L11+M11+P11+Q11),(L11+M11),"F"))))) -> 0 | O11: =ROUND((L11+M11-N11),2) -> 0 | P11: =S10 -> 0 | Q11: =ROUND((H11*$S$5)*(E11/365),2) -> 0 | R11: =IF(F11=0,0,IF(F11<(P11+Q11),F11,IF(F11=(P11+Q11),(P11+Q11),IF(F11>(P11+Q11),(P11+Q11),"F")))) -> 0 | S11: =ROUND((P11+Q11-R11),2) -> 0 | T11: =K11+O11+S11 -> 0
C12: =D11+1 -> 1 | E12: =IF(D12-C12+1<0,"0",D12-C12+1) -> 0 | F12: 0 | G12: =ROUND(F12-J12-N12-R12,2) -> 0 | H12: =K11 -> 0 | I12: 0 | J12: =IF(F12=0,0,(IF(F12<(F12-N12-R12),0,IF(F12=(F12-N12-R12),(F12-N12-R12),IF(F12>(F12-N12-R12),(F12-N12-R12),"F"))))) -> 0 | K12: =ROUND((H12+I12-J12),2) -> 0 | L12: =O11 -> 0 | M12: =ROUND(((H12*$O$5)*(E12/365)),2) -> 0 | N12: =IF(F12=0,0,IF(AND(F12<(L12+M12+P12+Q12),0>(F12-P12-Q12)),0,IF(AND(F12<(L12+M12+P12+Q12),0<(F12-P12-Q12)),F12-P12-Q12,IF(F12=P12+Q12,0,IF(F12>(L12+M12+P12+Q12),(L12+M12),"F"))))) -> 0 | O12: =ROUND((L12+M12-N12),2) -> 0 | P12: =S11 -> 0 | Q12: =ROUND((H12*$S$5)*(E12/365),2) -> 0 | R12: =IF(F12=0,0,IF(F12<(P12+Q12),F12,IF(F12=(P12+Q12),(P12+Q12),IF(F12>(P12+Q12),(P12+Q12),"F")))) -> 0 | S12: =ROUND((P12+Q12-R12),2) -> 0 | T12: =K12+O12+S12 -> 0
A13: เงื่อนไขการชำระ | C13: =D12+1 -> 1 | E13: =IF(D13-C13+1<0,"0",D13-C13+1) -> 0 | F13: 0 | G13: =ROUND(F13-J13-N13-R13,2) -> 0 | H13: =K12 -> 0 | I13: 0 | J13: =IF(F13=0,0,(IF(F13<(F13-N13-R13),0,IF(F13=(F13-N13-R13),(F13-N13-R13),IF(F13>(F13-N13-R13),(F13-N13-R13),"F"))))) -> 0 | K13: =ROUND((H13+I13-J13),2) -> 0 | L13: =O12 -> 0 | M13: =ROUND(((H13*$O$5)*(E13/365)),2) -> 0 | N13: =IF(F13=0,0,IF(AND(F13<(L13+M13+P13+Q13),0>(F13-P13-Q13)),0,IF(AND(F13<(L13+M13+P13+Q13),0<(F13-P13-Q13)),F13-P13-Q13,IF(F13=P13+Q13,0,IF(F13>(L13+M13+P13+Q13),(L13+M13),"F"))))) -> 0 | O13: =ROUND((L13+M13-N13),2) -> 0 | P13: =S12 -> 0 | Q13: =ROUND((H13*$S$5)*(E13/365),2) -> 0 | R13: =IF(F13=0,0,IF(F13<(P13+Q13),F13,IF(F13=(P13+Q13),(P13+Q13),IF(F13>(P13+Q13),(P13+Q13),"F")))) -> 0 | S13: =ROUND((P13+Q13-R13),2) -> 0 | T13: =K13+O13+S13 -> 0
C14: =D13+1 -> 1 | E14: =IF(D14-C14+1<0,"0",D14-C14+1) -> 0 | F14: 0 | G14: =ROUND(F14-J14-N14-R14,2) -> 0 | H14: =K13 -> 0 | I14: 0 | J14: =IF(F14=0,0,(IF(F14<(F14-N14-R14),0,IF(F14=(F14-N14-R14),(F14-N14-R14),IF(F14>(F14-N14-R14),(F14-N14-R14),"F"))))) -> 0 | K14: =ROUND((H14+I14-J14),2) -> 0 | L14: =O13 -> 0 | M14: =ROUND(((H14*$O$5)*(E14/365)),2) -> 0 | N14: =IF(F14=0,0,IF(AND(F14<(L14+M14+P14+Q14),0>(F14-P14-Q14)),0,IF(AND(F14<(L14+M14+P14+Q14),0<(F14-P14-Q14)),F14-P14-Q14,IF(F14=P14+Q14,0,IF(F14>(L14+M14+P14+Q14),(L14+M14),"F"))))) -> 0 | O14: =ROUND((L14+M14-N14),2) -> 0 | P14: =S13 -> 0 | Q14: =ROUND((H14*$S$5)*(E14/365),2) -> 0 | R14: =IF(F14=0,0,IF(F14<(P14+Q14),F14,IF(F14=(P14+Q14),(P14+Q14),IF(F14>(P14+Q14),(P14+Q14),"F")))) -> 0 | S14: =ROUND((P14+Q14-R14),2) -> 0 | T14: =K14+O14+S14 -> 0
C15: =D14+1 -> 1 | E15: =IF(D15-C15+1<0,"0",D15-C15+1) -> 0 | F15: 0 | G15: =ROUND(F15-J15-N15-R15,2) -> 0 | H15: =K14 -> 0 | I15: 0 | J15: =IF(F15=0,0,(IF(F15<(F15-N15-R15),0,IF(F15=(F15-N15-R15),(F15-N15-R15),IF(F15>(F15-N15-R15),(F15-N15-R15),"F"))))) -> 0 | K15: =ROUND((H15+I15-J15),2) -> 0 | L15: =O14 -> 0 | M15: =ROUND(((H15*$O$5)*(E15/365)),2) -> 0 | N15: =IF(F15=0,0,IF(AND(F15<(L15+M15+P15+Q15),0>(F15-P15-Q15)),0,IF(AND(F15<(L15+M15+P15+Q15),0<(F15-P15-Q15)),F15-P15-Q15,IF(F15=P15+Q15,0,IF(F15>(L15+M15+P15+Q15),(L15+M15),"F"))))) -> 0 | O15: =ROUND((L15+M15-N15),2) -> 0 | P15: =S14 -> 0 | Q15: =ROUND((H15*$S$5)*(E15/365),2) -> 0 | R15: =IF(F15=0,0,IF(F15<(P15+Q15),F15,IF(F15=(P15+Q15),(P15+Q15),IF(F15>(P15+Q15),(P15+Q15),"F")))) -> 0 | S15: =ROUND((P15+Q15-R15),2) -> 0 | T15: =K15+O15+S15 -> 0
C16: =D15+1 -> 1 | E16: =IF(D16-C16+1<0,"0",D16-C16+1) -> 0 | F16: 0 | G16: =ROUND(F16-J16-N16-R16,2) -> 0 | H16: =K15 -> 0 | I16: 0 | J16: =IF(F16=0,0,(IF(F16<(F16-N16-R16),0,IF(F16=(F16-N16-R16),(F16-N16-R16),IF(F16>(F16-N16-R16),(F16-N16-R16),"F"))))) -> 0 | K16: =ROUND((H16+I16-J16),2) -> 0 | L16: =O15 -> 0 | M16: =ROUND(((H16*$O$5)*(E16/365)),2) -> 0 | N16: =IF(F16=0,0,IF(AND(F16<(L16+M16+P16+Q16),0>(F16-P16-Q16)),0,IF(AND(F16<(L16+M16+P16+Q16),0<(F16-P16-Q16)),F16-P16-Q16,IF(F16=P16+Q16,0,IF(F16>(L16+M16+P16+Q16),(L16+M16),"F"))))) -> 0 | O16: =ROUND((L16+M16-N16),2) -> 0 | P16: =S15 -> 0 | Q16: =ROUND((H16*$S$5)*(E16/365),2) -> 0 | R16: =IF(F16=0,0,IF(F16<(P16+Q16),F16,IF(F16=(P16+Q16),(P16+Q16),IF(F16>(P16+Q16),(P16+Q16),"F")))) -> 0 | S16: =ROUND((P16+Q16-R16),2) -> 0 | T16: =K16+O16+S16 -> 0
C17: =D16+1 -> 1 | E17: =IF(D17-C17+1<0,"0",D17-C17+1) -> 0 | F17: 0 | G17: =ROUND(F17-J17-N17-R17,2) -> 0 | H17: =K16 -> 0 | I17: 0 | J17: =IF(F17=0,0,(IF(F17<(F17-N17-R17),0,IF(F17=(F17-N17-R17),(F17-N17-R17),IF(F17>(F17-N17-R17),(F17-N17-R17),"F"))))) -> 0 | K17: =ROUND((H17+I17-J17),2) -> 0 | L17: =O16 -> 0 | M17: =ROUND(((H17*$O$5)*(E17/365)),2) -> 0 | N17: =IF(F17=0,0,IF(AND(F17<(L17+M17+P17+Q17),0>(F17-P17-Q17)),0,IF(AND(F17<(L17+M17+P17+Q17),0<(F17-P17-Q17)),F17-P17-Q17,IF(F17=P17+Q17,0,IF(F17>(L17+M17+P17+Q17),(L17+M17),"F"))))) -> 0 | O17: =ROUND((L17+M17-N17),2) -> 0 | P17: =S16 -> 0 | Q17: =ROUND((H17*$S$5)*(E17/365),2) -> 0 | R17: =IF(F17=0,0,IF(F17<(P17+Q17),F17,IF(F17=(P17+Q17),(P17+Q17),IF(F17>(P17+Q17),(P17+Q17),"F")))) -> 0 | S17: =ROUND((P17+Q17-R17),2) -> 0 | T17: =K17+O17+S17 -> 0
C18: =D17+1 -> 1 | E18: =IF(D18-C18+1<0,"0",D18-C18+1) -> 0 | F18: 0 | G18: =ROUND(F18-J18-N18-R18,2) -> 0 | H18: =K17 -> 0 | I18: 0 | J18: =IF(F18=0,0,(IF(F18<(F18-N18-R18),0,IF(F18=(F18-N18-R18),(F18-N18-R18),IF(F18>(F18-N18-R18),(F18-N18-R18),"F"))))) -> 0 | K18: =ROUND((H18+I18-J18),2) -> 0 | L18: =O17 -> 0 | M18: =ROUND(((H18*$O$5)*(E18/365)),2) -> 0 | N18: =IF(F18=0,0,IF(AND(F18<(L18+M18+P18+Q18),0>(F18-P18-Q18)),0,IF(AND(F18<(L18+M18+P18+Q18),0<(F18-P18-Q18)),F18-P18-Q18,IF(F18=P18+Q18,0,IF(F18>(L18+M18+P18+Q18),(L18+M18),"F"))))) -> 0 | O18: =ROUND((L18+M18-N18),2) -> 0 | P18: =S17 -> 0 | Q18: =ROUND((H18*$S$5)*(E18/365),2) -> 0 | R18: =IF(F18=0,0,IF(F18<(P18+Q18),F18,IF(F18=(P18+Q18),(P18+Q18),IF(F18>(P18+Q18),(P18+Q18),"F")))) -> 0 | S18: =ROUND((P18+Q18-R18),2) -> 0 | T18: =K18+O18+S18 -> 0
C19: =D18+1 -> 1 | E19: =IF(D19-C19+1<0,"0",D19-C19+1) -> 0 | F19: 0 | G19: =ROUND(F19-J19-N19-R19,2) -> 0 | H19: =K18 -> 0 | I19: 0 | J19: =IF(F19=0,0,(IF(F19<(F19-N19-R19),0,IF(F19=(F19-N19-R19),(F19-N19-R19),IF(F19>(F19-N19-R19),(F19-N19-R19),"F"))))) -> 0 | K19: =ROUND((H19+I19-J19),2) -> 0 | L19: =O18 -> 0 | M19: =ROUND(((H19*$O$5)*(E19/365)),2) -> 0 | N19: =IF(F19=0,0,IF(AND(F19<(L19+M19+P19+Q19),0>(F19-P19-Q19)),0,IF(AND(F19<(L19+M19+P19+Q19),0<(F19-P19-Q19)),F19-P19-Q19,IF(F19=P19+Q19,0,IF(F19>(L19+M19+P19+Q19),(L19+M19),"F"))))) -> 0 | O19: =ROUND((L19+M19-N19),2) -> 0 | P19: =S18 -> 0 | Q19: =ROUND((H19*$S$5)*(E19/365),2) -> 0 | R19: =IF(F19=0,0,IF(F19<(P19+Q19),F19,IF(F19=(P19+Q19),(P19+Q19),IF(F19>(P19+Q19),(P19+Q19),"F")))) -> 0 | S19: =ROUND((P19+Q19-R19),2) -> 0 | T19: =K19+O19+S19 -> 0
C20: =D19+1 -> 1 | E20: =IF(D20-C20+1<0,"0",D20-C20+1) -> 0 | F20: 0 | G20: =ROUND(F20-J20-N20-R20,2) -> 0 | H20: =K19 -> 0 | I20: 0 | J20: =IF(F20=0,0,(IF(F20<(F20-N20-R20),0,IF(F20=(F20-N20-R20),(F20-N20-R20),IF(F20>(F20-N20-R20),(F20-N20-R20),"F"))))) -> 0 | K20: =ROUND((H20+I20-J20),2) -> 0 | L20: =O19 -> 0 | M20: =ROUND(((H20*$O$5)*(E20/365)),2) -> 0 | N20: =IF(F20=0,0,IF(AND(F20<(L20+M20+P20+Q20),0>(F20-P20-Q20)),0,IF(AND(F20<(L20+M20+P20+Q20),0<(F20-P20-Q20)),F20-P20-Q20,IF(F20=P20+Q20,0,IF(F20>(L20+M20+P20+Q20),(L20+M20),"F"))))) -> 0 | O20: =ROUND((L20+M20-N20),2) -> 0 | P20: =S19 -> 0 | Q20: =ROUND((H20*$S$5)*(E20/365),2) -> 0 | R20: =IF(F20=0,0,IF(F20<(P20+Q20),F20,IF(F20=(P20+Q20),(P20+Q20),IF(F20>(P20+Q20),(P20+Q20),"F")))) -> 0 | S20: =ROUND((P20+Q20-R20),2) -> 0 | T20: =K20+O20+S20 -> 0
C21: =D20+1 -> 1 | E21: =IF(D21-C21+1<0,"0",D21-C21+1) -> 0 | F21: 0 | G21: =ROUND(F21-J21-N21-R21,2) -> 0 | H21: =K20 -> 0 | I21: 0 | J21: =IF(F21=0,0,(IF(F21<(F21-N21-R21),0,IF(F21=(F21-N21-R21),(F21-N21-R21),IF(F21>(F21-N21-R21),(F21-N21-R21),"F"))))) -> 0 | K21: =ROUND((H21+I21-J21),2) -> 0 | L21: =O20 -> 0 | M21: =ROUND(((H21*$O$5)*(E21/365)),2) -> 0 | N21: =IF(F21=0,0,IF(AND(F21<(L21+M21+P21+Q21),0>(F21-P21-Q21)),0,IF(AND(F21<(L21+M21+P21+Q21),0<(F21-P21-Q21)),F21-P21-Q21,IF(F21=P21+Q21,0,IF(F21>(L21+M21+P21+Q21),(L21+M21),"F"))))) -> 0 | O21: =ROUND((L21+M21-N21),2) -> 0 | P21: =S20 -> 0 | Q21: =ROUND((H21*$S$5)*(E21/365),2) -> 0 | R21: =IF(F21=0,0,IF(F21<(P21+Q21),F21,IF(F21=(P21+Q21),(P21+Q21),IF(F21>(P21+Q21),(P21+Q21),"F")))) -> 0 | S21: =ROUND((P21+Q21-R21),2) -> 0 | T21: =K21+O21+S21 -> 0
C22: =D21+1 -> 1 | E22: =IF(D22-C22+1<0,"0",D22-C22+1) -> 0 | F22: 0 | G22: =ROUND(F22-J22-N22-R22,2) -> 0 | H22: =K21 -> 0 | I22: 0 | J22: =IF(F22=0,0,(IF(F22<(F22-N22-R22),0,IF(F22=(F22-N22-R22),(F22-N22-R22),IF(F22>(F22-N22-R22),(F22-N22-R22),"F"))))) -> 0 | K22: =ROUND((H22+I22-J22),2) -> 0 | L22: =O21 -> 0 | M22: =ROUND(((H22*$O$5)*(E22/365)),2) -> 0 | N22: =IF(F22=0,0,IF(AND(F22<(L22+M22+P22+Q22),0>(F22-P22-Q22)),0,IF(AND(F22<(L22+M22+P22+Q22),0<(F22-P22-Q22)),F22-P22-Q22,IF(F22=P22+Q22,0,IF(F22>(L22+M22+P22+Q22),(L22+M22),"F"))))) -> 0 | O22: =ROUND((L22+M22-N22),2) -> 0 | P22: =S21 -> 0 | Q22: =ROUND((H22*$S$5)*(E22/365),2) -> 0 | R22: =IF(F22=0,0,IF(F22<(P22+Q22),F22,IF(F22=(P22+Q22),(P22+Q22),IF(F22>(P22+Q22),(P22+Q22),"F")))) -> 0 | S22: =ROUND((P22+Q22-R22),2) -> 0 | T22: =K22+O22+S22 -> 0
C23: =D22+1 -> 1 | E23: =IF(D23-C23+1<0,"0",D23-C23+1) -> 0 | F23: 0 | G23: =ROUND(F23-J23-N23-R23,2) -> 0 | H23: =K22 -> 0 | I23: 0 | J23: =IF(F23=0,0,(IF(F23<(F23-N23-R23),0,IF(F23=(F23-N23-R23),(F23-N23-R23),IF(F23>(F23-N23-R23),(F23-N23-R23),"F"))))) -> 0 | K23: =ROUND((H23+I23-J23),2) -> 0 | L23: =O22 -> 0 | M23: =ROUND(((H23*$O$5)*(E23/365)),2) -> 0 | N23: =IF(F23=0,0,IF(AND(F23<(L23+M23+P23+Q23),0>(F23-P23-Q23)),0,IF(AND(F23<(L23+M23+P23+Q23),0<(F23-P23-Q23)),F23-P23-Q23,IF(F23=P23+Q23,0,IF(F23>(L23+M23+P23+Q23),(L23+M23),"F"))))) -> 0 | O23: =ROUND((L23+M23-N23),2) -> 0 | P23: =S22 -> 0 | Q23: =ROUND((H23*$S$5)*(E23/365),2) -> 0 | R23: =IF(F23=0,0,IF(F23<(P23+Q23),F23,IF(F23=(P23+Q23),(P23+Q23),IF(F23>(P23+Q23),(P23+Q23),"F")))) -> 0 | S23: =ROUND((P23+Q23-R23),2) -> 0 | T23: =K23+O23+S23 -> 0
C24: =D23+1 -> 1 | E24: =IF(D24-C24+1<0,"0",D24-C24+1) -> 0 | F24: 0 | G24: =ROUND(F24-J24-N24-R24,2) -> 0 | H24: =K23 -> 0 | I24: 0 | J24: =IF(F24=0,0,(IF(F24<(F24-N24-R24),0,IF(F24=(F24-N24-R24),(F24-N24-R24),IF(F24>(F24-N24-R24),(F24-N24-R24),"F"))))) -> 0 | K24: =ROUND((H24+I24-J24),2) -> 0 | L24: =O23 -> 0 | M24: =ROUND(((H24*$O$5)*(E24/365)),2) -> 0 | N24: =IF(F24=0,0,IF(AND(F24<(L24+M24+P24+Q24),0>(F24-P24-Q24)),0,IF(AND(F24<(L24+M24+P24+Q24),0<(F24-P24-Q24)),F24-P24-Q24,IF(F24=P24+Q24,0,IF(F24>(L24+M24+P24+Q24),(L24+M24),"F"))))) -> 0 | O24: =ROUND((L24+M24-N24),2) -> 0 | P24: =S23 -> 0 | Q24: =ROUND((H24*$S$5)*(E24/365),2) -> 0 | R24: =IF(F24=0,0,IF(F24<(P24+Q24),F24,IF(F24=(P24+Q24),(P24+Q24),IF(F24>(P24+Q24),(P24+Q24),"F")))) -> 0 | S24: =ROUND((P24+Q24-R24),2) -> 0 | T24: =K24+O24+S24 -> 0
C25: =D24+1 -> 1 | E25: =IF(D25-C25+1<0,"0",D25-C25+1) -> 0 | F25: 0 | G25: =ROUND(F25-J25-N25-R25,2) -> 0 | H25: =K24 -> 0 | I25: 0 | J25: =IF(F25=0,0,(IF(F25<(F25-N25-R25),0,IF(F25=(F25-N25-R25),(F25-N25-R25),IF(F25>(F25-N25-R25),(F25-N25-R25),"F"))))) -> 0 | K25: =ROUND((H25+I25-J25),2) -> 0 | L25: =O24 -> 0 | M25: =ROUND(((H25*$O$5)*(E25/365)),2) -> 0 | N25: =IF(F25=0,0,IF(AND(F25<(L25+M25+P25+Q25),0>(F25-P25-Q25)),0,IF(AND(F25<(L25+M25+P25+Q25),0<(F25-P25-Q25)),F25-P25-Q25,IF(F25=P25+Q25,0,IF(F25>(L25+M25+P25+Q25),(L25+M25),"F"))))) -> 0 | O25: =ROUND((L25+M25-N25),2) -> 0 | P25: =S24 -> 0 | Q25: =ROUND((H25*$S$5)*(E25/365),2) -> 0 | R25: =IF(F25=0,0,IF(F25<(P25+Q25),F25,IF(F25=(P25+Q25),(P25+Q25),IF(F25>(P25+Q25),(P25+Q25),"F")))) -> 0 | S25: =ROUND((P25+Q25-R25),2) -> 0 | T25: =K25+O25+S25 -> 0
... C31: =D30+1 -> 1 | E31: =IF(D31-C31+1<0,"0",D31-C31+1) -> 0 | F31: 0 | G31: =ROUND(F31-J31-N31-R31,2) -> 0 | H31: =K30 -> 0 | I31: 0 | J31: =IF(F31=0,0,(IF(F31<(F31-N31-R31),0,IF(F31=(F31-N31-R31),(F31-N31-R31),IF(F31>(F31-N31-R31),(F31-N31-R31),"F"))))) -> 0 | K31: =ROUND((H31+I31-J31),2) -> 0 | L31: =O30 -> 0 | M31: =ROUND(((H31*$O$5)*(E31/365)),2) -> 0 | N31: =IF(F31=0,0,IF(AND(F31<(L31+M31+P31+Q31),0>(F31-P31-Q31)),0,IF(AND(F31<(L31+M31+P31+Q31),0<(F31-P31-Q31)),F31-P31-Q31,IF(F31=P31+Q31,0,IF(F31>(L31+M31+P31+Q31),(L31+M31),"F"))))) -> 0 | O31: =ROUND((L31+M31-N31),2) -> 0 | P31: =S30 -> 0 | Q31: =ROUND((H31*$S$5)*(E31/365),2) -> 0 | R31: =IF(F31=0,0,IF(F31<(P31+Q31),F31,IF(F31=(P31+Q31),(P31+Q31),IF(F31>(P31+Q31),(P31+Q31),"F")))) -> 0 | S31: =ROUND((P31+Q31-R31),2) -> 0 | T31: =K31+O31+S31 -> 0
F32: =SUM(F8:F31) -> 0 | H32: =H8 -> 0 | I32: =SUM(I8:I31) -> 0 | J32: =SUM(J8:J31) -> 0 | K32: =ROUND((H32+I32-J32),2) -> 0 | L32: =L8 -> 0 | M32: =SUM(M8:M31) -> 0 | N32: =SUM(N8:N31) -> 0 | O32: =ROUND((L32+M32-N32),2) -> 0 | P32: =P8 -> 0 | Q32: =SUM(Q8:Q31) -> 0 | R32: =SUM(R8:R31) -> 0 | S32: =ROUND((P32+Q32-R32),2) -> 0 | T32: =K32+O32+S32 -> 0
B34: หมายเหตุ
B35: 1. การคำนวณดอกเบี้ยเงินกู้รับและค่าปรับรับ ใช้ตัวส่วน จำนวน 365 วัน

Sheet แบบรายงานเงินจ่ายขาด
A1: แบบรายงานการเบิกจ่ายเงินรายได้นิคมสหกรณ์ (เงินจ่ายขาด)
A2: สำหรับค่าใช้จ่ายในการบริหารจัดการและการดำเนินงาน
A3: สำนักงานสหกรณ์จังหวัด...............................................................
A4: วันที่ .....................................................
A6: ลำดับที่ | B6: รายการ | J6: จำนวนเงิน | K6: หมายเหตุ
J7: (บาท)
A8: 1 | B8: ค่าใช้จ่ายในการเดินทางไปปฏิบัติราชการสำหรับเจ้าหน้าที่เพื่อตรวจสอบ ติดตาม
B9: ประเมินผลการใช้เงินกู้ฯ และเร่งรัดหนี้
B10: - ค่าเบี้ยเลี้ยงวันละ | C10: ............. | D10: บาท | E10: จำนวน | F10: ............. | G10: วัน | H10: ............. | I10: คน
B11: - ค่าเช่าที่พักวันละ | C11: ............. | D11: บาท | E11: จำนวน | F11: ............. | G11: วัน | H11: ............. | I11: คน
B12: - ค่าพาหนะ ...............................................................................................
B13: - ค่าใช้จ่ายอื่น ๆ (ถ้ามีระบุ) .........................................................................
A14: 2 | B14: ค่าตอบแทนการปฏิบัติงานนอกเวลาราชการ
A15: 3 | B15: ค่าใช้จ่ายในการประชุมคณะอนุกรรมการฯ
B16: ครั้งที่............ ประจำปีงบประมาณ พ.ศ. .............
B17: - ค่าเบี้ยประชุม .........คน
B18: - ค่าอาหารว่างและเครื่องดื่ม .............คน ๆ ละ ......... บาท
B19: - ค่าอาหาร ............. คน ๆ ละ ........... บาท (ถ้ามี)
B20: - ค่าถ่ายเอกสารในการประชุม
A21: 4 | B21: ค่าใช้จ่ายในการดำเนินคดี
A22: 5 | B22: ค่าใช้จ่ายอื่น ๆ (ถ้ามีระบุ) ................................................................................
A30: (ตัวอักษร) | B30: =BAHTTEXT(J30) -> ศูนย์บาทถ้วน | I30: รวมเป็นเงินทั้งสิ้น | J30: =SUM(J8:J29) -> 0 | K30: ณ วันที่........จ่ายเงิน
I32: จำนวนเงินจัดสรรที่ได้รับอนุมัติ | J32: 0 | K32: บาท
I33: จำนวนเงินที่เบิกจ่ายแล้วสะสม | J33: 0 | K33: บาท
I34: จำนวนเงินที่เบิกจ่ายครั้งนี้ | J34: 0 | K34: บาท
I35: จำนวนเงินคงเหลือ | J35: =ROUND((J32-J33-J34),2) -> 0 | K35: บาท
H37: ลงชื่อ | I37: ............................................................. | K37: ผู้จ่ายเงิน
I38: (.............................................................)
H39: ตำแหน่ง | I39: .............................................................
H41: ลงชื่อ | I41: ............................................................. | K41: ผู้อนุมัติ
I42: (.............................................................)
H43: ตำแหน่ง | I43: .............................................................
I44: วันที่....................................................
A47: คำชี้แจงแบบรายงานการเบิกจ่ายเงินจ่ายขาด
A49: (1) | B49: หน่วยงาน ให้ระบุชื่อสำนักงานสหกรณ์จังหวัด................. ที่จัดทำแบบรายงานฯ นี้
A50: (2) | B50: วันที่ ให้ระบุวันที่มีการเบิกจ่ายเงินเพื่อจ่ายเป็นค่าใช้จ่ายตามประกาศกรมฯ เรื่อง หลักเกณฑ์การใช้เงินรายได้นิคมสหกรณ์ฯ
A51: (3) | B51: ค่าใช้จ่ายอื่น ๆ (ถ้ามีระบุ) ให้ระบุรายการค่าใช้จ่ายซึ่งนอกเหนือจากข้อ 1 ถึง 4 โดยให้เป็นไปตามประกาศกรมส่งเสริมสหกรณ์
B52: เรื่อง หลักเกณฑ์การใช้เงินรายได้นิคมสหกรณ์และการจัดการทรัพย์สินของนิคมสหกรณ์ พ.ศ. 2566
A53: (4) | B53: จำนวนเงินจัดสรรที่ได้รับอนุมัติ หัก เบิกจ่ายในครั้งนี้ จำนวนเงินที่เบิกจ่ายแล้ว และจำนวนเงินคงเหลือ
B54: ให้ระบุเฉพาะจำนวนเงินจ่ายขาด เงินรายได้นิคมสหกรณ์ที่ได้รับจัดสรร
A55: (5) | B55: รายการเบิกจ่ายค่าใช้จ่ายต่าง ๆ ให้ปฏิบัติตามประกาศกรมส่งเสริมสหกรณ์ เรื่อง หลักเกณฑ์การใช้เงินรายได้นิคมสหกรณ์
B56: และการจัดการทรัพย์สินของนิคมสหกรณ์ พ.ศ. 2566 ประกาศ ณ วันที่ 3 กุมภาพันธ์ พ.ศ. 2566 โดยเคร่งครัด
B57: และให้อยู่ในดุลพินิจของผู้มีอำนาจพิจารณาอนุมัติภายในวงเงินที่ได้รับจัดสรร
A58: (6) | B58: ให้สำนักงานสหกรณ์จังหวัด เบิกจ่ายเงินจ่ายขาด โดยให้สหกรณ์จังหวัดเป็นผู้อนุมัติ/พิจารณาค่าใช้จ่ายให้อยู่ภายในวงเงิน
B59: ที่ได้รับจัดสรรในแต่ละครั้ง
A60: (7) | B60: ห้ามไม่ให้สำนักงานสหกรณ์จังหวัด นำเงินจ่ายขาด ไปใช้จ่ายเพื่อการอื่น ซึ่งนอกเหนือจากที่ระบุไว้ตามประกาศกรมฯ ในข้อ 5)
A61: (8) | B61: แบบรายงานการเบิกจ่ายเงินจ่ายขาด เงินรายได้นิคมสหกรณ์ฉบับนี้ ให้จัดทำขึ้น 2 ฉบับ โดยตัวจริงถือเป็นเอกสารเบิกจ่าย
B62: เงินรายได้นิคมสหกรณ์สำหรับกรมฯ สำเนาให้แนบไว้กับหลักฐานการเบิกจ่าย หรือใบสำคัญคู่จ่ายต่าง ๆ
B63: เก็บไว้ที่สำนักงานสหกรณ์จังหวัด เพื่อให้สำนักงานการตรวจเงินแผ่นดินหรือกลุ่มตรวจสอบภายในตรวจสอบ
A64: (9) | B64: ให้สำนักงานสหกรณ์จังหวัด จัดส่งแบบรายงานการเบิกจ่ายเงินรายได้นิคมสหกรณ์ (เงินจ่ายขาด)
B65: พร้อมสำเนาบัญชีเงินฝากธนาคารเงินรายได้นิคมสหกรณ์ จังหวัด.... ให้กรมฯ ทราบโดยด่วนภายใน 5 วันทำการ
B66: นับแต่วันที่ได้มีการเบิกจ่ายเงิน หากมีเหตุทำให้เกิดความล่าช้าและคาดว่าจะไม่สามารถดำเนินการได้ภายในเวลาที่กำหนด
B67: ให้จัดส่งแบบรายงานฯ ทางโทรสารหมายเลข 0 - 2281 - 7900 หรือทางไปรษณีย์อิเล็กทรอนิค : funds811@gmail.com
B68: ก่อนโดยอนุโลม แล้วให้เร่งดำเนินการจัดส่งเป็นเอกสารในภายหลัง เพื่อกรมฯ จะได้จัดทำรายงานผลการใช้จ่ายเงิน
B69: ให้อธิบดีกรมส่งเสริมสหกรณ์และหน่วยงานที่เกี่ยวข้องทราบ

Sheet แบบรายงานเงินจ่ายขาด (2)
A1: แบบรายงานการเบิกจ่ายเงินรายได้นิคมสหกรณ์ (เงินจ่ายขาด)
A2: สำหรับกิจกรรมเพื่อประโยชน์แก่กิจการของนิคมสหกรณ์
A3: สำนักงานสหกรณ์จังหวัด...............................................................
A4: วันที่ .....................................................
A6: กิจกรรม/โครงการ : .............................................................................................................................................
A8: ลำดับที่ | B8: รายการ | J8: จำนวนเงิน | K8: หมายเหตุ
J9: (บาท)
A10: 1 | B10: ระบุค่าใช้จ่ายตามกิจกรรม / โครงการ | J10: 0
A29: (ตัวอักษร) | B29: =BAHTTEXT(J29) -> ศูนย์บาทถ้วน | I29: รวมเป็นเงินทั้งสิ้น | J29: =SUM(J10:J28) -> 0 | K29: ณ วันที่........จ่ายเงิน
I31: จำนวนเงินจัดสรรที่ได้รับอนุมัติ | J31: 0 | K31: บาท
I32: จำนวนเงินที่เบิกจ่ายแล้วสะสม | J32: 0 | K32: บาท
I33: จำนวนเงินที่เบิกจ่ายครั้งนี้ | J33: 0 | K33: บาท
I34: จำนวนเงินคงเหลือ | J34: =ROUND((J31-J32-J33),2) -> 0 | K34: บาท
H36: ลงชื่อ | I36: ............................................................. | K36: ผู้จ่ายเงิน
I37: (.............................................................)
H38: ตำแหน่ง | I38: .............................................................
H40: ลงชื่อ | I40: ............................................................. | K40: ผู้อนุมัติ
I41: (.............................................................)
H42: ตำแหน่ง | I42: .............................................................
I43: วันที่....................................................
A46: คำชี้แจงแบบรายงานการเบิกจ่ายเงินจ่ายขาด
A48: (1) | B48: หน่วยงาน ให้ระบุชื่อสำนักงานสหกรณ์จังหวัด................. ที่จัดทำแบบรายงานฯ นี้
A49: (2) | B49: วันที่ ให้ระบุวันที่มีการเบิกจ่ายเงินเพื่อจ่ายเป็นค่าใช้จ่ายตามประกาศกรมฯ เรื่อง หลักเกณฑ์การใช้เงินรายได้นิคมสหกรณ์ฯ
A50: (3) | B50: ค่าใช้จ่ายอื่น ๆ (ถ้ามีระบุ) ให้ระบุรายการค่าใช้จ่ายซึ่งนอกเหนือจากข้อ 1 ถึง 4 โดยให้เป็นไปตามประกาศกรมส่งเสริมสหกรณ์
B51: เรื่อง หลักเกณฑ์การใช้เงินรายได้นิคมสหกรณ์และการจัดการทรัพย์สินของนิคมสหกรณ์ พ.ศ. 2566
A52: (4) | B52: จำนวนเงินจัดสรรที่ได้รับอนุมัติ หัก เบิกจ่ายในครั้งนี้ จำนวนเงินที่เบิกจ่ายแล้ว และจำนวนเงินคงเหลือ
B53: ให้ระบุเฉพาะจำนวนเงินจ่ายขาด เงินรายได้นิคมสหกรณ์ที่ได้รับจัดสรร
A54: (5) | B54: รายการเบิกจ่ายค่าใช้จ่ายต่าง ๆ ให้ปฏิบัติตามประกาศกรมส่งเสริมสหกรณ์ เรื่อง หลักเกณฑ์การใช้เงินรายได้นิคมสหกรณ์
B55: และการจัดการทรัพย์สินของนิคมสหกรณ์ พ.ศ. 2566 ประกาศ ณ วันที่ 3 กุมภาพันธ์ พ.ศ. 2566 โดยเคร่งครัด
B56: และให้อยู่ในดุลพินิจของผู้มีอำนาจพิจารณาอนุมัติภายในวงเงินที่ได้รับจัดสรร
A57: (6) | B57: ให้สำนักงานสหกรณ์จังหวัด เบิกจ่ายเงินจ่ายขาด โดยให้สหกรณ์จังหวัดเป็นผู้อนุมัติ/พิจารณาค่าใช้จ่ายให้อยู่ภายในวงเงิน
B58: ที่ได้รับจัดสรรในแต่ละครั้ง
A59: (7) | B59: ห้ามไม่ให้สำนักงานสหกรณ์จังหวัด นำเงินจ่ายขาด ไปใช้จ่ายเพื่อการอื่น ซึ่งนอกเหนือจากที่ระบุไว้ตามประกาศกรมฯ ในข้อ 5)
A60: (8) | B60: แบบรายงานการเบิกจ่ายเงินจ่ายขาด เงินรายได้นิคมสหกรณ์ฉบับนี้ ให้จัดทำขึ้น 2 ฉบับ โดยตัวจริงถือเป็นเอกสารเบิกจ่าย
B61: เงินรายได้นิคมสหกรณ์สำหรับกรมฯ สำเนาให้แนบไว้กับหลักฐานการเบิกจ่าย หรือใบสำคัญคู่จ่ายต่าง ๆ
B62: เก็บไว้ที่สำนักงานสหกรณ์จังหวัด เพื่อให้สำนักงานการตรวจเงินแผ่นดินหรือกลุ่มตรวจสอบภายในตรวจสอบ
A63: (9) | B63: ให้สำนักงานสหกรณ์จังหวัด จัดส่งแบบรายงานการเบิกจ่ายเงินรายได้นิคมสหกรณ์ (เงินจ่ายขาด)
B64: พร้อมสำเนาบัญชีเงินฝากธนาคารเงินรายได้นิคมสหกรณ์ จังหวัด.... ให้กรมฯ ทราบโดยด่วนภายใน 5 วันทำการ
B65: นับแต่วันที่ได้มีการเบิกจ่ายเงิน หากมีเหตุทำให้เกิดความล่าช้าและคาดว่าจะไม่สามารถดำเนินการได้ภายในเวลาที่กำหนด
B66: ให้จัดส่งแบบรายงานฯ ทางโทรสารหมายเลข 0 - 2281 - 7900 หรือทางไปรษณีย์อิเล็กทรอนิค : funds811@gmail.com
B67: ก่อนโดยอนุโลม แล้วให้เร่งดำเนินการจัดส่งเป็นเอกสารในภายหลัง เพื่อกรมฯ จะได้จัดทำรายงานผลการใช้จ่ายเงิน
B68: ให้อธิบดีกรมส่งเสริมสหกรณ์และหน่วยงานที่เกี่ยวข้องทราบ

Sheet รายละเอียดการส่งคืนเงิน
B1: รายละเอียดการส่งคืนเงิน
C2: เงินรายได้นิคมสหกรณ์
D3: สำนักงานสหกรณ์จังหวัด | J3: โอนเข้าบัญชีเงินฝากของกรมฯ ที่ ธ.ก.ส. สาขานางเลิ้ง
D4: บัญชีเลขที่ | G4: เมื่อวันที่
A6: ที่ | B6: ชื่อสหกรณ์ / กลุ่ม | C6: วันที่ | E6: เงินต้น | F6: ดอกเบี้ยเงินกู้ | G6: ค่าปรับรับ | H6: เงินจ่ายขาด | I6: ดอกเบี้ยเงินฝากธนาคาร | J6: รายได้อื่น ๆ | K6: รวมเป็นเงิน | L6: หมายเหตุ
C7: สัญญา | D7: ชำระ | K7: ทิ้งสิ้น
B8: ระบุชื่อสถาบันแต่ละรายที่ชำระตามลำดับ
B11: กรณีเป็นลูกหนี้ดำเนินคดี | F11: ดอกเบี้ยตาม | G11: ค่าปรับตาม
B12: มีคำพิพาษาแล้ว(เปลี่ยนหัวตาราง) | F12: คำพิพากษา | G12: คำพิพากษา
A15: รวมเป็นเงินทั้งสิ้น
A17: หมายเหตุ
A18: 1 | B18: หลักฐานการโอนเงินคืนกรมส่งเสริมสหกรณ์ | K18: ลงชื่อ .
D19: ลงวันที่____________________ หรือ | K19: ( )
D20: ลงวันที่____________________ | K20: ตำแหน่ง .
I21: ผู้จัดทำ
A22: 2 | B22: จำนวนเงินในยอดรวมจะต้องเท่ากับสำเนาคำขอโอนเงินหรือใบฝากเงินฯ
A23: 3 | B23: สำหรับดอกเบี้ยเงินฝากธนาคารของสหกรณ์ ให้สำนักงานสหกรณ์จังหวัดเป็นผู้ตรวจสอบยอดเงินและเก็บเป็นหลักฐานให้ สตง. ตรวจสอบที่สำนักงานสหกรณ์จังหวัด

Sheet ฟอร์มรายละเอียดหักชำระหนี้
A1: กรมส่งเสริมสหกรณ์
A2: เงินรายได้นิคมสหกรณ์
A3: รายละเอียดการหักชำระหนี้
A5: ตามใบเสร็จรับเงิน เลขที่ : | C5: เล่มที่ : | E5: ลงวันที่ :
A7: รายละเอียดสัญญา
A8: ชื่อ :
A9: วัตถุประสงค์ :
A10: สัญญาเลขที่ : | D10: ลงวันที่ :
A11: จำนวนต้นเงินกู้ : | B11: 5 | D11: บาท | E11: งวดที่ :
A12: กำหนดชำระภายในวันที่ : | D12: สถานะ :
A14: รายละเอียดการชำระเงิน
A15: วันที่ส่งชำระครั้งนี้ : | C15: จำนวนเงินที่ชำระ : | F15: บาท
A16: หลักฐานการส่งชำระ :
A17: จำนวนเงินที่หักชำระ : | D17: บาท
A19: รายละเอียดยอดค้างชำระ
A20: ยอดค้าง ณ วันที่ :
A21: จำนวนต้นเงินคงค้าง : | E21: บาท
A22: จำนวนดอกเบี้ยคงค้าง : | E22: บาท
A23: จำนวนค่าปรับคงค้าง : | E23: บาท
A25: รายการ | C25: รายการ
C26: ที่คำนวณได้ | D26: พึงชำระ | E26: ชำระจริง | F26: ยอดคงค้างยกไป
A27: เงินต้น | C27: 0 | D27: 0 | E27: 0 | F27: 0
A28: ดอกเบี้ย อัตรา 2.00 % | C28: 0 | D28: 0 | E28: 0 | F28: 0
A29: วันที่คำนวณ 1/10/2565 - 05/10/2565 ( 5 วัน)
A30: ค่าปรับ อัตรา 2.00 % | C30: 0 | D30: 0 | E30: 0 | F30: 0
A31: วันที่คำนวณ 1/10/2565 - 05/10/2565 ( 5 วัน)
A33: หมายเหตุ
A36: หน่วยงาน :
A37: ผู้จัดทำ :
